BEGIN:VCALENDAR
VERSION:2.0
PRODID:-//AudioTheme 2.3.8
BEGIN:VEVENT
UID:http://www.papiervertrieb-vogt.de/susannevogt-musik/?post_type=audiotheme_gig&#038;p=24
URL:https://www.susannevogt.de/shows/archiv/
DTSTART;TZID=GMT:20141215T190000
SUMMARY:Susanne Vogt Band
LOCATION:Buchcafe\, Badestube 20\, Bad Hersfeld\, \, Deutschland
END:VEVENT
END:VCALENDAR
