BEGIN:VCALENDAR
VERSION:2.0
PRODID:-//AudioTheme 2.3.8
BEGIN:VEVENT
UID:http://www.susannevogt.de/?post_type=audiotheme_gig&#038;p=549
URL:https://www.susannevogt.de/shows/susanne-vogt-band-4/
DTSTART;TZID=GMT:20150726T090000
SUMMARY:Susanne Vogt Band
LOCATION:Waldhotel Schäferberg\, Wilhelmsthaler Straße 14\, Espenau\, \, 34314
END:VEVENT
END:VCALENDAR
