BEGIN:VCALENDAR
VERSION:2.0
PRODID:-//AudioTheme 2.3.8
BEGIN:VEVENT
UID:http://www.susannevogt.de/?post_type=audiotheme_gig&#038;p=630
URL:https://www.susannevogt.de/shows/susanne-vogt-band-9/
DTSTART;TZID=GMT:20160619T130000
SUMMARY:Susanne Vogt Band
LOCATION:Kunstwerkstatt\, Heckerstr. 30B\, Kassel\, \, 34121
END:VEVENT
END:VCALENDAR
